BEGIN:VCALENDAR
VERSION:2.0
CALSCALE:GREGORIAN
METHOD:PUBLISH
PRODID://SNVP//460453
BEGIN:VEVENT
DTSTAMP:20260422T105429
VTIMEZONE:America/Los_Angeles
DTSTART:20251029T200000Z
DTEND:20251029T220000Z
UID:460453
SUMMARY:LVMPD Asian American Pacific Islander Allianceâ€™s Quarterly Meeting
LOCATION:The Secret Garden Wedding & Event Cent, 3333 Raven Ave, Las Vegas, NV
DESCRIPTION:LVMPD Asian American Pacific Islander Allianceâ€™s Quarterly Meeting\n\n10/29/25 01:00 PM PST\n - 10/29/25 03:00 PM PST\Description:\nJoin us to learn how to play Pickleball, learn about holiday safety and upcoming events at LVMPD's Asian American Pacific Islander Alliance's Quarterly meeting. \Location:\nThe Secret Garden Wedding & Event Cent\n3333 Raven Ave\nLas Vegas, NV
X-ALT-DESC;FMTTYPE=text/html:LVMPD Asian American Pacific Islander Allianceâ€™s Quarterly Meeting<br /><br />10/29/25 01:00 PM PST - 10/29/25 03:00 PM PST<br />Description:<br />Join us to learn how to play Pickleball, learn about holiday safety and upcoming events at LVMPD's&nbsp;Asian American Pacific Islander Alliance's Quarterly meeting.&nbsp;<br />Location:<br />The Secret Garden Wedding & Event Cent<br />3333 Raven Ave<br />Las Vegas, NV 
PRIORITY:3
TRANSP:TRANSPARENT
BEGIN:VALARM
TRIGGER:-PT5M
ACTION:DISPLAY
DESCRIPTION:Reminder
END:VALARM
END:VEVENT
END:VCALENDAR
