BEGIN:VCALENDAR
VERSION:2.0
CALSCALE:GREGORIAN
METHOD:PUBLISH
PRODID://SNVP//459950
BEGIN:VEVENT
DTSTAMP:20260422T105459
VTIMEZONE:America/Los_Angeles
DTSTART:20251108T170000Z
DTEND:20251108T200000Z
UID:459950
SUMMARY:Pickleball with a Physician (Free Workshop)
LOCATION:Paradise Recreation Center, 4775 Mcleod Drive, Las Vegas, NV, 89121
DESCRIPTION:Pickleball with a Physician (Free Workshop)\n\n11/08/25 09:00 AM PST\n - 11/08/25 12:00 PM PST\Description:\nJoin fellow Pickleball enthusiasts for a free Pickleball workshop at the Paradise Recreation Center.  Learn, Practice, Play and Mingle.  Register at the front desk or over the phone at 702-455-7513.  \n\nYouth Workshop: 9AM to 10AM; Ages 8+; Adults (18+) must be present with child\nAdult Open Play: 10AM to 12PM; Ages 18+\n\nSponsored by the Kirk Kerkorian School of Medicine, UNLV\Location:\nParadise Recreation Center\n4775 Mcleod Drive\nLas Vegas, NV 89121
X-ALT-DESC;FMTTYPE=text/html:Pickleball with a Physician (Free Workshop)<br /><br />11/08/25 09:00 AM PST - 11/08/25 12:00 PM PST<br />Description:<br />Join fellow Pickleball enthusiasts for a free Pickleball workshop at the Paradise Recreation Center. &nbsp;Learn, Practice, Play and Mingle. &nbsp;Register at the front desk or over the phone at <a href="tel:702-455-7513">702-455-7513</a>. &nbsp;<br />
<br />
Youth Workshop: 9AM to 10AM; Ages 8+; Adults (18+) must be present with child<br />
Adult Open Play: 10AM to 12PM; Ages 18+<br />
<br />
Sponsored by the Kirk Kerkorian School of Medicine, UNLV<br />Location:<br />Paradise Recreation Center<br />4775 Mcleod Drive<br />Las Vegas, NV 89121
PRIORITY:3
TRANSP:TRANSPARENT
BEGIN:VALARM
TRIGGER:-PT5M
ACTION:DISPLAY
DESCRIPTION:Reminder
END:VALARM
END:VEVENT
END:VCALENDAR
